BEGIN:VCALENDAR
VERSION:2.0
PRODID:-//Hotel Teatro - ECPv6.15.20//NONSGML v1.0//EN
CALSCALE:GREGORIAN
METHOD:PUBLISH
X-ORIGINAL-URL:https://hotelteatro.com
X-WR-CALDESC:Events for Hotel Teatro
REFRESH-INTERVAL;VALUE=DURATION:PT1H
X-Robots-Tag:noindex
X-PUBLISHED-TTL:PT1H
BEGIN:VTIMEZONE
TZID:UTC
BEGIN:STANDARD
TZOFFSETFROM:+0000
TZOFFSETTO:+0000
TZNAME:UTC
DTSTART:20240101T000000
END:STANDARD
END:VTIMEZONE
BEGIN:VEVENT
DTSTART;VALUE=DATE:20251108
DTEND;VALUE=DATE:20260311
DTSTAMP:20260421T183849
CREATED:20260207T075042Z
LAST-MODIFIED:20260207T075351Z
UID:10002583-1762560000-1773187199@hotelteatro.com
SUMMARY:Dracula: A Comedy of Terrors
DESCRIPTION:DRACULA: A COMEDY OF TERRORS is a Bram-new comedy you can really sink your teeth into. Filled with clever wordplay and anything-goes pop culture references\, it’s a 90-minute\, gender-bending\, quick-changing\, laugh-out-loud reimagining of the gothic classic\, perfect for audiences of all blood types. \nIn the treacherous mountains of Transylvania\, a meek English real estate agent takes a harrowing journey to meet a new and mysterious client\, who just happens to be the most terrifying and ferocious monster the world has ever known. As famed female vampire hunter Jean Van Helsing and company chase Drac from Transylvania to the British countryside to London and back\, their antics are guaranteed to increase your pulse and cause bloodcurdling screams—of laughter.
URL:https://hotelteatro.com/event/dracula-a-comedy-of-terrors/
LOCATION:Hotel Teatro\, 1100 14th St\, Denver\, CO 80202\, USA\, Denver\, CO\, 80202\, United States
ATTACH;FMTTYPE=image/webp:https://hotelteatro.com/storage/2026/02/Dracula-A-Comedy-of-Terrors.webp
ORGANIZER;CN="Denver Broncos":MAILTO:suggestions@broncos.nfl.net
END:VEVENT
BEGIN:VEVENT
DTSTART;VALUE=DATE:20260116
DTEND;VALUE=DATE:20260302
DTSTAMP:20260421T183849
CREATED:20260207T093343Z
LAST-MODIFIED:20260207T094458Z
UID:10002584-1768521600-1772409599@hotelteatro.com
SUMMARY:Cowboys and East Indians
DESCRIPTION:Adapted from Nina McConigley’s award-winning collection of short stories\, Cowboys and East Indians follows the Sen family as they grapple with expectations and cultural collisions moving from India to Wyoming. \nLakshmi “Lucky” Sen’s dad calls her a prairie dog — hesitant and scared on the side of the road. Now on a mission to fulfill her mom’s final wish\, Lucky has to figure out saris\, how to stop burning the spices\, and the many other things she didn’t pay attention to while she was busy trying to fit in. But on the eve of her sister’s wedding\, a family secret resurfaces\, and Lucky realizes there might be a lot more about her mom and being a “good Indian daughter” that she doesn’t know. \nA rare exploration of rural immigrant experiences in the American West\, Cowboys and East Indians examines the question of how one understands their identity when they don’t see a reflection of it in their community.
URL:https://hotelteatro.com/event/cowboys-and-east-indians/
ATTACH;FMTTYPE=image/webp:https://hotelteatro.com/storage/2026/02/Cowboys-and-East-Indians.webp
ORGANIZER;CN="Denver Broncos":MAILTO:suggestions@broncos.nfl.net
END:VEVENT
BEGIN:VEVENT
DTSTART;TZID=UTC:20260129T190000
DTEND;TZID=UTC:20260129T210000
DTSTAMP:20260421T183849
CREATED:20260121T133635Z
LAST-MODIFIED:20260121T133635Z
UID:10002566-1769713200-1769720400@hotelteatro.com
SUMMARY:Denver Nuggets vs. Brooklyn Nets
DESCRIPTION:Please adhere to the published ticket limits. Guests attending Ball Arena events are advised that laptops\, tablets\, bags\, backpacks\, luggage\, coolers\, parcels\, briefcases and like articles will be strictly prohibited from the facility. All guests may be subject to search of their person and/or possessions. Patrons with prohibited articles will be turned away and no storage or “check-in area” will be provided. Enforcement will be without exceptions. All events are subject to change.
URL:https://hotelteatro.com/event/denver-nuggets-vs-brooklyn-nets/
LOCATION:Ball Arena\, 1000 Chopper Circle\, Denver\, CO 80204\, Denver\, CO\, 80204\, United States
ATTACH;FMTTYPE=image/webp:https://hotelteatro.com/storage/2026/01/Denver-Nuggets.webp
ORGANIZER;CN="Kroenke Sports & Entertainment (KSE)":MAILTO:GuestRelations@teamkse.com
END:VEVENT
END:VCALENDAR