BEGIN:VCALENDAR
VERSION:2.0
PRODID:-//Hotel Teatro - ECPv6.15.20//NONSGML v1.0//EN
CALSCALE:GREGORIAN
METHOD:PUBLISH
X-ORIGINAL-URL:https://hotelteatro.com
X-WR-CALDESC:Events for Hotel Teatro
REFRESH-INTERVAL;VALUE=DURATION:PT1H
X-Robots-Tag:noindex
X-PUBLISHED-TTL:PT1H
BEGIN:VTIMEZONE
TZID:UTC
BEGIN:STANDARD
TZOFFSETFROM:+0000
TZOFFSETTO:+0000
TZNAME:UTC
DTSTART:20250101T000000
END:STANDARD
END:VTIMEZONE
BEGIN:VEVENT
DTSTART;TZID=UTC:20260314T070000
DTEND;TZID=UTC:20260317T210000
DTSTAMP:20260421T153631
CREATED:20260312T225532Z
LAST-MODIFIED:20260312T230748Z
UID:10002601-1773471600-1773781200@hotelteatro.com
SUMMARY:Celebrate St. Patrick's Day at Hotel Teatro
DESCRIPTION:Ring in St. Patrick’s Day with Irish coffees at The Nickel and The Study Coffee + Wine Bar in LoDo! \nIrish Coffee Specials $12 | Available Saturday\, March 14 through Tuesday\, March 17 \n\nCoffee & Baileys — Smooth\, creamy\, and perfectly Irish\nCoffee & Jameson Irish Whiskey — Bold\, warming\, and classic\n\n  \nFrom the Denver St. Patrick’s Day Parade on March 14 straight through St. Patrick’s Day on March 17\, join us in the heart of downtown Denver’s Theatre District for a cozy\, celebratory Irish Coffee. \nSpecials available at The Nickel and The Study Coffee + Wine Bar\, located inside Hotel Teatro\, 1100 14th Street\, Denver\, CO.
URL:https://hotelteatro.com/event/celebrate-st-patricks-day-at-hotel-teatro/
ATTACH;FMTTYPE=image/jpeg:https://hotelteatro.com/storage/2026/03/IMG_8896-scaled.jpg
END:VEVENT
BEGIN:VEVENT
DTSTART;TZID=UTC:20260317T190000
DTEND;TZID=UTC:20260317T213000
DTSTAMP:20260421T153631
CREATED:20260206T133158Z
LAST-MODIFIED:20260207T072816Z
UID:10002577-1773774000-1773783000@hotelteatro.com
SUMMARY:Denver Nuggets vs. Philadelphia 76ers
DESCRIPTION:Important Event Info: Please adhere to the published ticket limits. Guests attending Ball Arena events are advised that laptops\, tablets\, bags\, backpacks\, luggage\, coolers\, parcels\, briefcases and like articles will be strictly prohibited from the facility. All guests may be subject to search of their person and/or possessions. Patrons with prohibited articles will be turned away and no storage or “check-in area” will be provided. Enforcement will be without exceptions. All events are subject to change.
URL:https://hotelteatro.com/event/denver-nuggets-vs-philadelphia-76ers/
LOCATION:Ball Arena\, 1000 Chopper Circle\, Denver\, CO 80204\, Denver\, CO\, 80204\, United States
ATTACH;FMTTYPE=image/webp:https://hotelteatro.com/storage/2026/02/1920x1080-1.webp
ORGANIZER;CN="Kroenke Sports & Entertainment (KSE)":MAILTO:GuestRelations@teamkse.com
END:VEVENT
END:VCALENDAR