BEGIN:VCALENDAR
VERSION:2.0
PRODID:-//Hotel Teatro - ECPv6.15.20//NONSGML v1.0//EN
CALSCALE:GREGORIAN
METHOD:PUBLISH
X-WR-CALNAME:Hotel Teatro
X-ORIGINAL-URL:https://hotelteatro.com
X-WR-CALDESC:Events for Hotel Teatro
REFRESH-INTERVAL;VALUE=DURATION:PT1H
X-Robots-Tag:noindex
X-PUBLISHED-TTL:PT1H
BEGIN:VTIMEZONE
TZID:UTC
BEGIN:STANDARD
TZOFFSETFROM:+0000
TZOFFSETTO:+0000
TZNAME:UTC
DTSTART:20250101T000000
END:STANDARD
END:VTIMEZONE
BEGIN:VEVENT
DTSTART;TZID=UTC:20260403T000000
DTEND;TZID=UTC:20260503T000000
DTSTAMP:20260426T020511
CREATED:20260207T093345Z
LAST-MODIFIED:20260318T210047Z
UID:10002590-1775174400-1777766400@hotelteatro.com
SUMMARY:Next to Normal
DESCRIPTION:Winner of three Tony Awards and the Pulitzer Prize for Drama\, Next to Normal deploys wry humor and brutal honesty to explore how a family navigates their darkest hours — and finds the path to new beginnings. \nOn the surface\, Diana has it all — a house in the suburbs\, a successful architect husband\, and two sharp-witted teens. But beneath this perfect facade is a nuclear family on the verge of exploding\, doing everything they can to make it through another day in one piece. Propelled by an unforgettable pop-rock score\, this is an honest and unflinching ride through the complexities of mental health and unconditional love. \nThis groundbreaking musical is a story of love and resilience that hits close to home\, making you laugh\, cry\, and reflect on the struggles that shape us along the way. \nMore than exceptional.\n– The Washington Post
URL:https://hotelteatro.com/event/next-to-normal/
LOCATION:CO
ATTACH;FMTTYPE=image/jpeg:https://hotelteatro.com/storage/2026/02/TC26_NextNormal_Show-Tile_400-x-400.jpg
END:VEVENT
BEGIN:VEVENT
DTSTART;TZID=UTC:20260417T000000
DTEND;TZID=UTC:20260531T000000
DTSTAMP:20260426T020511
CREATED:20260207T093345Z
LAST-MODIFIED:20260318T210340Z
UID:10002592-1776384000-1780185600@hotelteatro.com
SUMMARY:English
DESCRIPTION:“English Only.” This one rule governs language instructor Marjan’s classroom\, where she teaches four adult students outside of Tehran. Together\, they leapfrog through a linguistic playground\, chasing fluency through a maze of word games\, listening exercises\, and show-and-tell sessions. They hope that one day English will make them whole. But it might be splitting each of them in half. \nSanaz Toossi’s Pulitzer Prize-winning English is a disarmingly funny and tender play about the foibles of language and miscommunication. Make sure you’re marked as “present” for a work Variety calls “undeniably one of the best plays of the decade\,” when it makes its Denver debut in spring 2026. \nHands down a masterpiece of theater.
URL:https://hotelteatro.com/event/english/
LOCATION:CO
ATTACH;FMTTYPE=image/jpeg:https://hotelteatro.com/storage/2026/02/TC26_English_Show-Tile_400-x-400.jpg
END:VEVENT
END:VCALENDAR