BEGIN:VCALENDAR
VERSION:2.0
PRODID:-//Hotel Teatro - ECPv6.15.20//NONSGML v1.0//EN
CALSCALE:GREGORIAN
METHOD:PUBLISH
X-ORIGINAL-URL:https://hotelteatro.com
X-WR-CALDESC:Events for Hotel Teatro
REFRESH-INTERVAL;VALUE=DURATION:PT1H
X-Robots-Tag:noindex
X-PUBLISHED-TTL:PT1H
BEGIN:VTIMEZONE
TZID:UTC
BEGIN:STANDARD
TZOFFSETFROM:+0000
TZOFFSETTO:+0000
TZNAME:UTC
DTSTART:20250101T000000
END:STANDARD
END:VTIMEZONE
BEGIN:VEVENT
DTSTART;TZID=UTC:20260417T000000
DTEND;TZID=UTC:20260531T000000
DTSTAMP:20260421T183926
CREATED:20260207T093345Z
LAST-MODIFIED:20260318T210340Z
UID:10002592-1776384000-1780185600@hotelteatro.com
SUMMARY:English
DESCRIPTION:“English Only.” This one rule governs language instructor Marjan’s classroom\, where she teaches four adult students outside of Tehran. Together\, they leapfrog through a linguistic playground\, chasing fluency through a maze of word games\, listening exercises\, and show-and-tell sessions. They hope that one day English will make them whole. But it might be splitting each of them in half. \nSanaz Toossi’s Pulitzer Prize-winning English is a disarmingly funny and tender play about the foibles of language and miscommunication. Make sure you’re marked as “present” for a work Variety calls “undeniably one of the best plays of the decade\,” when it makes its Denver debut in spring 2026. \nHands down a masterpiece of theater.
URL:https://hotelteatro.com/event/english/
ATTACH;FMTTYPE=image/jpeg:https://hotelteatro.com/storage/2026/02/TC26_English_Show-Tile_400-x-400.jpg
END:VEVENT
BEGIN:VEVENT
DTSTART;TZID=UTC:20260501T000000
DTEND;TZID=UTC:20260531T000000
DTSTAMP:20260421T183926
CREATED:20260207T093345Z
LAST-MODIFIED:20260318T210503Z
UID:10002593-1777593600-1780185600@hotelteatro.com
SUMMARY:Somewhere
DESCRIPTION:From the Tony Award-winning writer of The Inheritance and The Legend of Georgia McBride comes a music and dance-filled portrait of a tight-knit Puerto Rican family striving to make it in show business. \nIt’s 1959\, West Side Story is a Broadway sensation\, and the Candelarias’ small Manhattan apartment is filled with big love and plenty of talent. With news of a film version of the hit musical in the works\, it seems that the family’s dreams of the spotlight might finally come true. But a sudden notice announcing a neighborhood-wide eviction threatens to destroy their home and the passions that have sustained their American Dream. \nDance\, family bonds\, and unextinguishable hope take center stage in Somewhere by DCPA fan-favorite Matthew López. \nBursts with ideas and feeling and a boisterous (if bittersweet) sense of romance…Robust and entertaining!\n– San Diego Union-Tribune
URL:https://hotelteatro.com/event/somewhere/
ATTACH;FMTTYPE=image/jpeg:https://hotelteatro.com/storage/2026/02/TC26_Somewhere_Show-Tile_400-x-400.jpg
END:VEVENT
BEGIN:VEVENT
DTSTART;TZID=UTC:20260505T000000
DTEND;TZID=UTC:20260510T000000
DTSTAMP:20260421T183926
CREATED:20260207T093400Z
LAST-MODIFIED:20260318T210646Z
UID:10002595-1777939200-1778371200@hotelteatro.com
SUMMARY:Hadestown
DESCRIPTION:COME SEE HOW THE WORLD COULD BE. \nWelcome to HADESTOWN\, where a song can change your fate. Winner of eight 2019 Tony Awards® including Best Musical and the 2020 Grammy® Award for Best Musical Theater Album\, this acclaimed new show from celebrated singer-songwriter Anaïs Mitchell and original director Rachel Chavkin (Natasha\, Pierre & The Great Comet of 1812) is a love story for today… and always. \nHADESTOWN intertwines two mythic tales — that of young dreamers Orpheus and Eurydice\, and that of King Hades and his wife Persephone — as it invites you on a hell-raising journey to the underworld and back. Mitchell’s beguiling melodies and Chavkin’s poetic imagination pit industry against nature\, doubt against faith\, and fear against love. Performed by a vibrant ensemble of actors\, dancers and singers\, HADESTOWN is a haunting and hopeful theatrical experience that grabs you and never lets go.
URL:https://hotelteatro.com/event/hadestown/
ATTACH;FMTTYPE=image/jpeg:https://hotelteatro.com/storage/2026/02/Hadestown_SQUARE_8x8-705x705-1.jpg
END:VEVENT
END:VCALENDAR