BEGIN:VCALENDAR
VERSION:2.0
PRODID:-//Hotel Teatro - ECPv6.15.20//NONSGML v1.0//EN
CALSCALE:GREGORIAN
METHOD:PUBLISH
X-ORIGINAL-URL:https://hotelteatro.com
X-WR-CALDESC:Events for Hotel Teatro
REFRESH-INTERVAL;VALUE=DURATION:PT1H
X-Robots-Tag:noindex
X-PUBLISHED-TTL:PT1H
BEGIN:VTIMEZONE
TZID:UTC
BEGIN:STANDARD
TZOFFSETFROM:+0000
TZOFFSETTO:+0000
TZNAME:UTC
DTSTART:20250101T000000
END:STANDARD
END:VTIMEZONE
BEGIN:VEVENT
DTSTART;TZID=UTC:20260527T000000
DTEND;TZID=UTC:20260726T000000
DTSTAMP:20260421T153611
CREATED:20260207T093400Z
LAST-MODIFIED:20260318T210933Z
UID:10002597-1779840000-1785024000@hotelteatro.com
SUMMARY:THE IMPROVISED SHAKESPEARE COMPANY®
DESCRIPTION:Back by popular demand\, the critically-acclaimed troupe returns to the DCPA for the 6th time! \nBased on one audience suggestion (a title of a show that has never been written)\, The Improvised Shakespeare Company® creates a brand new\, fully improvised\, Shakespearean masterpiece right before your eyes. Nothing has been planned out\, rehearsed\, or written. All of the dialogue is said for the first time\, the characters are recreated as you watch\, and if you’re ever wondering where the story is going…so are they! You’ve never seen the Bard like this before!
URL:https://hotelteatro.com/event/the-improvised-shakespeare-company/
ATTACH;FMTTYPE=image/jpeg:https://hotelteatro.com/storage/2026/02/IMP-Tile-shakespear.jpg
END:VEVENT
END:VCALENDAR