BEGIN:VCALENDAR
VERSION:2.0
PRODID:-//Hotel Teatro - ECPv6.15.20//NONSGML v1.0//EN
CALSCALE:GREGORIAN
METHOD:PUBLISH
X-WR-CALNAME:Hotel Teatro
X-ORIGINAL-URL:https://hotelteatro.com
X-WR-CALDESC:Events for Hotel Teatro
REFRESH-INTERVAL;VALUE=DURATION:PT1H
X-Robots-Tag:noindex
X-PUBLISHED-TTL:PT1H
BEGIN:VTIMEZONE
TZID:UTC
BEGIN:STANDARD
TZOFFSETFROM:+0000
TZOFFSETTO:+0000
TZNAME:UTC
DTSTART:20240101T000000
END:STANDARD
END:VTIMEZONE
BEGIN:VEVENT
DTSTART;TZID=UTC:20260123T190000
DTEND;TZID=UTC:20260123T210000
DTSTAMP:20260422T011439
CREATED:20260121T124220Z
LAST-MODIFIED:20260121T125533Z
UID:10002564-1769194800-1769202000@hotelteatro.com
SUMMARY:Colorado Avalanche vs. Philadelphia Flyers
DESCRIPTION: Please adhere to the published ticket limits. Guests attending Ball Arena events are advised that laptops\, tablets\, bags\, backpacks\, luggage\, coolers\, parcels\, briefcases and like articles will be strictly prohibited from the facility. All guests may be subject to search of their person and/or possessions. Patrons with prohibited articles will be turned away and no storage or “check-in area” will be provided. Enforcement will be without exceptions. All events are subject to change.
URL:https://hotelteatro.com/event/colorado-avalanche-vs-philadelphia-flyers/
LOCATION:Ball Arena\, 1000 Chopper Circle\, Denver\, CO 80204\, Denver\, CO\, 80204\, United States
ATTACH;FMTTYPE=image/webp:https://hotelteatro.com/storage/2026/01/Colorado-Avalanche-vs.-Philadelphia-Flyers.webp
ORGANIZER;CN="Kroenke Sports & Entertainment (KSE)":MAILTO:GuestRelations@teamkse.com
END:VEVENT
BEGIN:VEVENT
DTSTART;TZID=UTC:20260121T190000
DTEND;TZID=UTC:20260121T210000
DTSTAMP:20260422T011439
CREATED:20260121T135838Z
LAST-MODIFIED:20260121T135838Z
UID:10002568-1769022000-1769029200@hotelteatro.com
SUMMARY:Colorado Avalanche vs. Anaheim Ducks
DESCRIPTION:Please adhere to the published ticket limits. Guests attending Ball Arena events are advised that laptops\, tablets\, bags\, backpacks\, luggage\, coolers\, parcels\, briefcases and like articles will be strictly prohibited from the facility. All guests may be subject to search of their person and/or possessions. Patrons with prohibited articles will be turned away and no storage or “check-in area” will be provided. Enforcement will be without exceptions. All events are subject to change.
URL:https://hotelteatro.com/event/colorado-avalanche-vs-anaheim-ducks/
LOCATION:Ball Arena\, 1000 Chopper Circle\, Denver\, CO 80204\, Denver\, CO\, 80204\, United States
ATTACH;FMTTYPE=image/webp:https://hotelteatro.com/storage/2026/01/Colorado-Avalanche-vs.-Philadelphia-Flyers.webp
ORGANIZER;CN="Kroenke Sports & Entertainment (KSE)":MAILTO:GuestRelations@teamkse.com
END:VEVENT
BEGIN:VEVENT
DTSTART;VALUE=DATE:20260117
DTEND;VALUE=DATE:20260118
DTSTAMP:20260422T011439
CREATED:20251017T122514Z
LAST-MODIFIED:20251201T212506Z
UID:10000021-1768608000-1768694399@hotelteatro.com
SUMMARY:LIVE MUSIC FRIDAYS
DESCRIPTION:Free Live Music brought to you by various artists in The Nickel.
URL:https://hotelteatro.com/event/live-music-fridays/2026-01-17/
LOCATION:Hotel Teatro\, 1100 14th St\, Denver\, CO 80202\, USA\, Denver\, CO\, 80202\, United States
ATTACH;FMTTYPE=image/webp:https://hotelteatro.com/storage/2025/10/istockphoto-1319479588-612x612-1.webp
END:VEVENT
BEGIN:VEVENT
DTSTART;TZID=UTC:20260116T170000
DTEND;TZID=UTC:20260116T190000
DTSTAMP:20260422T011439
CREATED:20260118T072023Z
LAST-MODIFIED:20260121T040854Z
UID:10002440-1768582800-1768590000@hotelteatro.com
SUMMARY:Live Music Fridays
DESCRIPTION:Join us every Friday from 5 PM to 7 PM for free live music at The Study! \nEach week\, we feature a variety of talented artists\, creating the perfect atmosphere to unwind and enjoy great tunes. \nWhether you’re here to relax after a long week or discover new sounds\, come by and enjoy the vibrant energy of live performances in a cozy setting. Don’t miss out on the music\, see you this Friday! \nCalendar of artists: \n1/16/2026 | Mark May \n1/30/2026 | Darcy \n2/6/2026 | Darcy \n2/13/2026 | Mark May \n2/20/2026 | Darcy \n2/27/2026 | Mark May \n3/6/2026 | Darcy \n3/13/2026 | Chris Koza \n3/20/2026 | Darcy \n3/27/2026 | Mark May
URL:https://hotelteatro.com/event/live-music-fridays-2/2026-01-16/
LOCATION:The Study\, 1100 14th Street Denver\, Denver\, 80202\, United States
ATTACH;FMTTYPE=image/webp:https://hotelteatro.com/storage/2026/01/Live-Music-Fridays.webp
END:VEVENT
BEGIN:VEVENT
DTSTART;TZID=UTC:20260114T173000
DTEND;TZID=UTC:20260114T183000
DTSTAMP:20260422T011439
CREATED:20251017T123135Z
LAST-MODIFIED:20251201T212405Z
UID:10000397-1768411800-1768415400@hotelteatro.com
SUMMARY:WOMEN WINEMAKER WEDNESDAYS
DESCRIPTION:Join us in The Study for Women Winemaker Wednesdays\, a monthly gathering celebrating the artistry and expertise of female winemakers. Held on the second Wednesday of each month from 5:30–6:30 p.m.\, this intimate tasting experience invites guests to explore exceptional wines while hearing the stories behind the bottle. \n\n\nEnjoy a curated wine tasting\, engaging wine education\, and a selection of small charcuterie bites. Whether you’re a seasoned wine lover or just beginning your journey\, this event offers the perfect setting to sip\, savor\, and learn in great company. \n\n\nReserve your spot and raise a glass to women in wine! \n\nFrom 5:30 pm – 6:30 pm\, 15 per person
URL:https://hotelteatro.com/event/women-winemaker-wednesdays/2026-01-14/
LOCATION:Hotel Teatro\, 1100 14th St\, Denver\, CO 80202\, USA\, Denver\, CO\, 80202\, United States
ATTACH;FMTTYPE=image/webp:https://hotelteatro.com/storage/2025/10/Red-Wine-and-Striking-Shadows.webp
END:VEVENT
BEGIN:VEVENT
DTSTART;VALUE=DATE:20260110
DTEND;VALUE=DATE:20260111
DTSTAMP:20260422T011439
CREATED:20251017T122514Z
LAST-MODIFIED:20251201T212506Z
UID:10000020-1768003200-1768089599@hotelteatro.com
SUMMARY:LIVE MUSIC FRIDAYS
DESCRIPTION:Free Live Music brought to you by various artists in The Nickel.
URL:https://hotelteatro.com/event/live-music-fridays/2026-01-10/
LOCATION:Hotel Teatro\, 1100 14th St\, Denver\, CO 80202\, USA\, Denver\, CO\, 80202\, United States
ATTACH;FMTTYPE=image/webp:https://hotelteatro.com/storage/2025/10/istockphoto-1319479588-612x612-1.webp
END:VEVENT
BEGIN:VEVENT
DTSTART;TZID=UTC:20260107T173000
DTEND;TZID=UTC:20260107T183000
DTSTAMP:20260422T011439
CREATED:20251017T123135Z
LAST-MODIFIED:20251201T212405Z
UID:10000396-1767807000-1767810600@hotelteatro.com
SUMMARY:WOMEN WINEMAKER WEDNESDAYS
DESCRIPTION:Join us in The Study for Women Winemaker Wednesdays\, a monthly gathering celebrating the artistry and expertise of female winemakers. Held on the second Wednesday of each month from 5:30–6:30 p.m.\, this intimate tasting experience invites guests to explore exceptional wines while hearing the stories behind the bottle. \n\n\nEnjoy a curated wine tasting\, engaging wine education\, and a selection of small charcuterie bites. Whether you’re a seasoned wine lover or just beginning your journey\, this event offers the perfect setting to sip\, savor\, and learn in great company. \n\n\nReserve your spot and raise a glass to women in wine! \n\nFrom 5:30 pm – 6:30 pm\, 15 per person
URL:https://hotelteatro.com/event/women-winemaker-wednesdays/2026-01-07/
LOCATION:Hotel Teatro\, 1100 14th St\, Denver\, CO 80202\, USA\, Denver\, CO\, 80202\, United States
ATTACH;FMTTYPE=image/webp:https://hotelteatro.com/storage/2025/10/Red-Wine-and-Striking-Shadows.webp
END:VEVENT
BEGIN:VEVENT
DTSTART;VALUE=DATE:20260103
DTEND;VALUE=DATE:20260104
DTSTAMP:20260422T011439
CREATED:20251017T122514Z
LAST-MODIFIED:20251201T212506Z
UID:10000019-1767398400-1767484799@hotelteatro.com
SUMMARY:LIVE MUSIC FRIDAYS
DESCRIPTION:Free Live Music brought to you by various artists in The Nickel.
URL:https://hotelteatro.com/event/live-music-fridays/2026-01-03/
LOCATION:Hotel Teatro\, 1100 14th St\, Denver\, CO 80202\, USA\, Denver\, CO\, 80202\, United States
ATTACH;FMTTYPE=image/webp:https://hotelteatro.com/storage/2025/10/istockphoto-1319479588-612x612-1.webp
END:VEVENT
BEGIN:VEVENT
DTSTART;TZID=UTC:20251231T173000
DTEND;TZID=UTC:20251231T183000
DTSTAMP:20260422T011439
CREATED:20251017T123135Z
LAST-MODIFIED:20251201T212405Z
UID:10000395-1767202200-1767205800@hotelteatro.com
SUMMARY:WOMEN WINEMAKER WEDNESDAYS
DESCRIPTION:Join us in The Study for Women Winemaker Wednesdays\, a monthly gathering celebrating the artistry and expertise of female winemakers. Held on the second Wednesday of each month from 5:30–6:30 p.m.\, this intimate tasting experience invites guests to explore exceptional wines while hearing the stories behind the bottle. \n\n\nEnjoy a curated wine tasting\, engaging wine education\, and a selection of small charcuterie bites. Whether you’re a seasoned wine lover or just beginning your journey\, this event offers the perfect setting to sip\, savor\, and learn in great company. \n\n\nReserve your spot and raise a glass to women in wine! \n\nFrom 5:30 pm – 6:30 pm\, 15 per person
URL:https://hotelteatro.com/event/women-winemaker-wednesdays/2025-12-31/
LOCATION:Hotel Teatro\, 1100 14th St\, Denver\, CO 80202\, USA\, Denver\, CO\, 80202\, United States
ATTACH;FMTTYPE=image/webp:https://hotelteatro.com/storage/2025/10/Red-Wine-and-Striking-Shadows.webp
END:VEVENT
BEGIN:VEVENT
DTSTART;VALUE=DATE:20251227
DTEND;VALUE=DATE:20251228
DTSTAMP:20260422T011439
CREATED:20251017T122514Z
LAST-MODIFIED:20251201T212506Z
UID:10000018-1766793600-1766879999@hotelteatro.com
SUMMARY:LIVE MUSIC FRIDAYS
DESCRIPTION:Free Live Music brought to you by various artists in The Nickel.
URL:https://hotelteatro.com/event/live-music-fridays/2025-12-27/
LOCATION:Hotel Teatro\, 1100 14th St\, Denver\, CO 80202\, USA\, Denver\, CO\, 80202\, United States
ATTACH;FMTTYPE=image/webp:https://hotelteatro.com/storage/2025/10/istockphoto-1319479588-612x612-1.webp
END:VEVENT
BEGIN:VEVENT
DTSTART;TZID=UTC:20251224T173000
DTEND;TZID=UTC:20251224T183000
DTSTAMP:20260422T011439
CREATED:20251017T123135Z
LAST-MODIFIED:20251201T212405Z
UID:10000394-1766597400-1766601000@hotelteatro.com
SUMMARY:WOMEN WINEMAKER WEDNESDAYS
DESCRIPTION:Join us in The Study for Women Winemaker Wednesdays\, a monthly gathering celebrating the artistry and expertise of female winemakers. Held on the second Wednesday of each month from 5:30–6:30 p.m.\, this intimate tasting experience invites guests to explore exceptional wines while hearing the stories behind the bottle. \n\n\nEnjoy a curated wine tasting\, engaging wine education\, and a selection of small charcuterie bites. Whether you’re a seasoned wine lover or just beginning your journey\, this event offers the perfect setting to sip\, savor\, and learn in great company. \n\n\nReserve your spot and raise a glass to women in wine! \n\nFrom 5:30 pm – 6:30 pm\, 15 per person
URL:https://hotelteatro.com/event/women-winemaker-wednesdays/2025-12-24/
LOCATION:Hotel Teatro\, 1100 14th St\, Denver\, CO 80202\, USA\, Denver\, CO\, 80202\, United States
ATTACH;FMTTYPE=image/webp:https://hotelteatro.com/storage/2025/10/Red-Wine-and-Striking-Shadows.webp
END:VEVENT
BEGIN:VEVENT
DTSTART;VALUE=DATE:20251220
DTEND;VALUE=DATE:20251221
DTSTAMP:20260422T011439
CREATED:20251017T122514Z
LAST-MODIFIED:20251201T212506Z
UID:10000017-1766188800-1766275199@hotelteatro.com
SUMMARY:LIVE MUSIC FRIDAYS
DESCRIPTION:Free Live Music brought to you by various artists in The Nickel.
URL:https://hotelteatro.com/event/live-music-fridays/2025-12-20/
LOCATION:Hotel Teatro\, 1100 14th St\, Denver\, CO 80202\, USA\, Denver\, CO\, 80202\, United States
ATTACH;FMTTYPE=image/webp:https://hotelteatro.com/storage/2025/10/istockphoto-1319479588-612x612-1.webp
END:VEVENT
BEGIN:VEVENT
DTSTART;TZID=UTC:20251217T173000
DTEND;TZID=UTC:20251217T183000
DTSTAMP:20260422T011439
CREATED:20251017T123135Z
LAST-MODIFIED:20251201T212405Z
UID:10000393-1765992600-1765996200@hotelteatro.com
SUMMARY:WOMEN WINEMAKER WEDNESDAYS
DESCRIPTION:Join us in The Study for Women Winemaker Wednesdays\, a monthly gathering celebrating the artistry and expertise of female winemakers. Held on the second Wednesday of each month from 5:30–6:30 p.m.\, this intimate tasting experience invites guests to explore exceptional wines while hearing the stories behind the bottle. \n\n\nEnjoy a curated wine tasting\, engaging wine education\, and a selection of small charcuterie bites. Whether you’re a seasoned wine lover or just beginning your journey\, this event offers the perfect setting to sip\, savor\, and learn in great company. \n\n\nReserve your spot and raise a glass to women in wine! \n\nFrom 5:30 pm – 6:30 pm\, 15 per person
URL:https://hotelteatro.com/event/women-winemaker-wednesdays/2025-12-17/
LOCATION:Hotel Teatro\, 1100 14th St\, Denver\, CO 80202\, USA\, Denver\, CO\, 80202\, United States
ATTACH;FMTTYPE=image/webp:https://hotelteatro.com/storage/2025/10/Red-Wine-and-Striking-Shadows.webp
END:VEVENT
BEGIN:VEVENT
DTSTART;VALUE=DATE:20251213
DTEND;VALUE=DATE:20251214
DTSTAMP:20260422T011439
CREATED:20251017T122514Z
LAST-MODIFIED:20251201T212506Z
UID:10000016-1765584000-1765670399@hotelteatro.com
SUMMARY:LIVE MUSIC FRIDAYS
DESCRIPTION:Free Live Music brought to you by various artists in The Nickel.
URL:https://hotelteatro.com/event/live-music-fridays/2025-12-13/
LOCATION:Hotel Teatro\, 1100 14th St\, Denver\, CO 80202\, USA\, Denver\, CO\, 80202\, United States
ATTACH;FMTTYPE=image/webp:https://hotelteatro.com/storage/2025/10/istockphoto-1319479588-612x612-1.webp
END:VEVENT
BEGIN:VEVENT
DTSTART;TZID=UTC:20251210T173000
DTEND;TZID=UTC:20251210T183000
DTSTAMP:20260422T011439
CREATED:20251017T123135Z
LAST-MODIFIED:20251201T212405Z
UID:10000392-1765387800-1765391400@hotelteatro.com
SUMMARY:WOMEN WINEMAKER WEDNESDAYS
DESCRIPTION:Join us in The Study for Women Winemaker Wednesdays\, a monthly gathering celebrating the artistry and expertise of female winemakers. Held on the second Wednesday of each month from 5:30–6:30 p.m.\, this intimate tasting experience invites guests to explore exceptional wines while hearing the stories behind the bottle. \n\n\nEnjoy a curated wine tasting\, engaging wine education\, and a selection of small charcuterie bites. Whether you’re a seasoned wine lover or just beginning your journey\, this event offers the perfect setting to sip\, savor\, and learn in great company. \n\n\nReserve your spot and raise a glass to women in wine! \n\nFrom 5:30 pm – 6:30 pm\, 15 per person
URL:https://hotelteatro.com/event/women-winemaker-wednesdays/2025-12-10/
LOCATION:Hotel Teatro\, 1100 14th St\, Denver\, CO 80202\, USA\, Denver\, CO\, 80202\, United States
ATTACH;FMTTYPE=image/webp:https://hotelteatro.com/storage/2025/10/Red-Wine-and-Striking-Shadows.webp
END:VEVENT
BEGIN:VEVENT
DTSTART;VALUE=DATE:20251206
DTEND;VALUE=DATE:20251207
DTSTAMP:20260422T011439
CREATED:20251017T122514Z
LAST-MODIFIED:20251201T212506Z
UID:10000015-1764979200-1765065599@hotelteatro.com
SUMMARY:LIVE MUSIC FRIDAYS
DESCRIPTION:Free Live Music brought to you by various artists in The Nickel.
URL:https://hotelteatro.com/event/live-music-fridays/2025-12-06/
LOCATION:Hotel Teatro\, 1100 14th St\, Denver\, CO 80202\, USA\, Denver\, CO\, 80202\, United States
ATTACH;FMTTYPE=image/webp:https://hotelteatro.com/storage/2025/10/istockphoto-1319479588-612x612-1.webp
END:VEVENT
BEGIN:VEVENT
DTSTART;TZID=UTC:20251203T173000
DTEND;TZID=UTC:20251203T183000
DTSTAMP:20260422T011439
CREATED:20251017T123135Z
LAST-MODIFIED:20251201T212405Z
UID:10000391-1764783000-1764786600@hotelteatro.com
SUMMARY:WOMEN WINEMAKER WEDNESDAYS
DESCRIPTION:Join us in The Study for Women Winemaker Wednesdays\, a monthly gathering celebrating the artistry and expertise of female winemakers. Held on the second Wednesday of each month from 5:30–6:30 p.m.\, this intimate tasting experience invites guests to explore exceptional wines while hearing the stories behind the bottle. \n\n\nEnjoy a curated wine tasting\, engaging wine education\, and a selection of small charcuterie bites. Whether you’re a seasoned wine lover or just beginning your journey\, this event offers the perfect setting to sip\, savor\, and learn in great company. \n\n\nReserve your spot and raise a glass to women in wine! \n\nFrom 5:30 pm – 6:30 pm\, 15 per person
URL:https://hotelteatro.com/event/women-winemaker-wednesdays/2025-12-03/
LOCATION:Hotel Teatro\, 1100 14th St\, Denver\, CO 80202\, USA\, Denver\, CO\, 80202\, United States
ATTACH;FMTTYPE=image/webp:https://hotelteatro.com/storage/2025/10/Red-Wine-and-Striking-Shadows.webp
END:VEVENT
BEGIN:VEVENT
DTSTART;VALUE=DATE:20251129
DTEND;VALUE=DATE:20251130
DTSTAMP:20260422T011439
CREATED:20251017T122514Z
LAST-MODIFIED:20251201T212506Z
UID:10000014-1764374400-1764460799@hotelteatro.com
SUMMARY:LIVE MUSIC FRIDAYS
DESCRIPTION:Free Live Music brought to you by various artists in The Nickel.
URL:https://hotelteatro.com/event/live-music-fridays/2025-11-29/
LOCATION:Hotel Teatro\, 1100 14th St\, Denver\, CO 80202\, USA\, Denver\, CO\, 80202\, United States
ATTACH;FMTTYPE=image/webp:https://hotelteatro.com/storage/2025/10/istockphoto-1319479588-612x612-1.webp
END:VEVENT
BEGIN:VEVENT
DTSTART;TZID=UTC:20251126T173000
DTEND;TZID=UTC:20251126T183000
DTSTAMP:20260422T011439
CREATED:20251017T123135Z
LAST-MODIFIED:20251201T212405Z
UID:10000390-1764178200-1764181800@hotelteatro.com
SUMMARY:WOMEN WINEMAKER WEDNESDAYS
DESCRIPTION:Join us in The Study for Women Winemaker Wednesdays\, a monthly gathering celebrating the artistry and expertise of female winemakers. Held on the second Wednesday of each month from 5:30–6:30 p.m.\, this intimate tasting experience invites guests to explore exceptional wines while hearing the stories behind the bottle. \n\n\nEnjoy a curated wine tasting\, engaging wine education\, and a selection of small charcuterie bites. Whether you’re a seasoned wine lover or just beginning your journey\, this event offers the perfect setting to sip\, savor\, and learn in great company. \n\n\nReserve your spot and raise a glass to women in wine! \n\nFrom 5:30 pm – 6:30 pm\, 15 per person
URL:https://hotelteatro.com/event/women-winemaker-wednesdays/2025-11-26/
LOCATION:Hotel Teatro\, 1100 14th St\, Denver\, CO 80202\, USA\, Denver\, CO\, 80202\, United States
ATTACH;FMTTYPE=image/webp:https://hotelteatro.com/storage/2025/10/Red-Wine-and-Striking-Shadows.webp
END:VEVENT
BEGIN:VEVENT
DTSTART;VALUE=DATE:20251122
DTEND;VALUE=DATE:20251123
DTSTAMP:20260422T011439
CREATED:20251017T122514Z
LAST-MODIFIED:20251201T212506Z
UID:10000013-1763769600-1763855999@hotelteatro.com
SUMMARY:LIVE MUSIC FRIDAYS
DESCRIPTION:Free Live Music brought to you by various artists in The Nickel.
URL:https://hotelteatro.com/event/live-music-fridays/2025-11-22/
LOCATION:Hotel Teatro\, 1100 14th St\, Denver\, CO 80202\, USA\, Denver\, CO\, 80202\, United States
ATTACH;FMTTYPE=image/webp:https://hotelteatro.com/storage/2025/10/istockphoto-1319479588-612x612-1.webp
END:VEVENT
BEGIN:VEVENT
DTSTART;TZID=UTC:20251119T173000
DTEND;TZID=UTC:20251119T183000
DTSTAMP:20260422T011439
CREATED:20251017T123135Z
LAST-MODIFIED:20251201T212405Z
UID:10000389-1763573400-1763577000@hotelteatro.com
SUMMARY:WOMEN WINEMAKER WEDNESDAYS
DESCRIPTION:Join us in The Study for Women Winemaker Wednesdays\, a monthly gathering celebrating the artistry and expertise of female winemakers. Held on the second Wednesday of each month from 5:30–6:30 p.m.\, this intimate tasting experience invites guests to explore exceptional wines while hearing the stories behind the bottle. \n\n\nEnjoy a curated wine tasting\, engaging wine education\, and a selection of small charcuterie bites. Whether you’re a seasoned wine lover or just beginning your journey\, this event offers the perfect setting to sip\, savor\, and learn in great company. \n\n\nReserve your spot and raise a glass to women in wine! \n\nFrom 5:30 pm – 6:30 pm\, 15 per person
URL:https://hotelteatro.com/event/women-winemaker-wednesdays/2025-11-19/
LOCATION:Hotel Teatro\, 1100 14th St\, Denver\, CO 80202\, USA\, Denver\, CO\, 80202\, United States
ATTACH;FMTTYPE=image/webp:https://hotelteatro.com/storage/2025/10/Red-Wine-and-Striking-Shadows.webp
END:VEVENT
BEGIN:VEVENT
DTSTART;VALUE=DATE:20251115
DTEND;VALUE=DATE:20251116
DTSTAMP:20260422T011439
CREATED:20251017T122514Z
LAST-MODIFIED:20251201T212506Z
UID:10000012-1763164800-1763251199@hotelteatro.com
SUMMARY:LIVE MUSIC FRIDAYS
DESCRIPTION:Free Live Music brought to you by various artists in The Nickel.
URL:https://hotelteatro.com/event/live-music-fridays/2025-11-15/
LOCATION:Hotel Teatro\, 1100 14th St\, Denver\, CO 80202\, USA\, Denver\, CO\, 80202\, United States
ATTACH;FMTTYPE=image/webp:https://hotelteatro.com/storage/2025/10/istockphoto-1319479588-612x612-1.webp
END:VEVENT
BEGIN:VEVENT
DTSTART;TZID=UTC:20251112T173000
DTEND;TZID=UTC:20251112T183000
DTSTAMP:20260422T011439
CREATED:20251017T123135Z
LAST-MODIFIED:20251201T212405Z
UID:10000388-1762968600-1762972200@hotelteatro.com
SUMMARY:WOMEN WINEMAKER WEDNESDAYS
DESCRIPTION:Join us in The Study for Women Winemaker Wednesdays\, a monthly gathering celebrating the artistry and expertise of female winemakers. Held on the second Wednesday of each month from 5:30–6:30 p.m.\, this intimate tasting experience invites guests to explore exceptional wines while hearing the stories behind the bottle. \n\n\nEnjoy a curated wine tasting\, engaging wine education\, and a selection of small charcuterie bites. Whether you’re a seasoned wine lover or just beginning your journey\, this event offers the perfect setting to sip\, savor\, and learn in great company. \n\n\nReserve your spot and raise a glass to women in wine! \n\nFrom 5:30 pm – 6:30 pm\, 15 per person
URL:https://hotelteatro.com/event/women-winemaker-wednesdays/2025-11-12/
LOCATION:Hotel Teatro\, 1100 14th St\, Denver\, CO 80202\, USA\, Denver\, CO\, 80202\, United States
ATTACH;FMTTYPE=image/webp:https://hotelteatro.com/storage/2025/10/Red-Wine-and-Striking-Shadows.webp
END:VEVENT
BEGIN:VEVENT
DTSTART;VALUE=DATE:20251108
DTEND;VALUE=DATE:20251109
DTSTAMP:20260422T011440
CREATED:20251017T122514Z
LAST-MODIFIED:20251201T212506Z
UID:10000011-1762560000-1762646399@hotelteatro.com
SUMMARY:LIVE MUSIC FRIDAYS
DESCRIPTION:Free Live Music brought to you by various artists in The Nickel.
URL:https://hotelteatro.com/event/live-music-fridays/2025-11-08/
LOCATION:Hotel Teatro\, 1100 14th St\, Denver\, CO 80202\, USA\, Denver\, CO\, 80202\, United States
ATTACH;FMTTYPE=image/webp:https://hotelteatro.com/storage/2025/10/istockphoto-1319479588-612x612-1.webp
END:VEVENT
BEGIN:VEVENT
DTSTART;TZID=UTC:20251105T173000
DTEND;TZID=UTC:20251105T183000
DTSTAMP:20260422T011440
CREATED:20251017T123135Z
LAST-MODIFIED:20251201T212405Z
UID:10000387-1762363800-1762367400@hotelteatro.com
SUMMARY:WOMEN WINEMAKER WEDNESDAYS
DESCRIPTION:Join us in The Study for Women Winemaker Wednesdays\, a monthly gathering celebrating the artistry and expertise of female winemakers. Held on the second Wednesday of each month from 5:30–6:30 p.m.\, this intimate tasting experience invites guests to explore exceptional wines while hearing the stories behind the bottle. \n\n\nEnjoy a curated wine tasting\, engaging wine education\, and a selection of small charcuterie bites. Whether you’re a seasoned wine lover or just beginning your journey\, this event offers the perfect setting to sip\, savor\, and learn in great company. \n\n\nReserve your spot and raise a glass to women in wine! \n\nFrom 5:30 pm – 6:30 pm\, 15 per person
URL:https://hotelteatro.com/event/women-winemaker-wednesdays/2025-11-05/
LOCATION:Hotel Teatro\, 1100 14th St\, Denver\, CO 80202\, USA\, Denver\, CO\, 80202\, United States
ATTACH;FMTTYPE=image/webp:https://hotelteatro.com/storage/2025/10/Red-Wine-and-Striking-Shadows.webp
END:VEVENT
BEGIN:VEVENT
DTSTART;VALUE=DATE:20251101
DTEND;VALUE=DATE:20251102
DTSTAMP:20260422T011440
CREATED:20251017T122514Z
LAST-MODIFIED:20251201T212506Z
UID:10000010-1761955200-1762041599@hotelteatro.com
SUMMARY:LIVE MUSIC FRIDAYS
DESCRIPTION:Free Live Music brought to you by various artists in The Nickel.
URL:https://hotelteatro.com/event/live-music-fridays/2025-11-01/
LOCATION:Hotel Teatro\, 1100 14th St\, Denver\, CO 80202\, USA\, Denver\, CO\, 80202\, United States
ATTACH;FMTTYPE=image/webp:https://hotelteatro.com/storage/2025/10/istockphoto-1319479588-612x612-1.webp
END:VEVENT
BEGIN:VEVENT
DTSTART;TZID=UTC:20251029T173000
DTEND;TZID=UTC:20251029T183000
DTSTAMP:20260422T011440
CREATED:20251017T123135Z
LAST-MODIFIED:20251201T212405Z
UID:10000386-1761759000-1761762600@hotelteatro.com
SUMMARY:WOMEN WINEMAKER WEDNESDAYS
DESCRIPTION:Join us in The Study for Women Winemaker Wednesdays\, a monthly gathering celebrating the artistry and expertise of female winemakers. Held on the second Wednesday of each month from 5:30–6:30 p.m.\, this intimate tasting experience invites guests to explore exceptional wines while hearing the stories behind the bottle. \n\n\nEnjoy a curated wine tasting\, engaging wine education\, and a selection of small charcuterie bites. Whether you’re a seasoned wine lover or just beginning your journey\, this event offers the perfect setting to sip\, savor\, and learn in great company. \n\n\nReserve your spot and raise a glass to women in wine! \n\nFrom 5:30 pm – 6:30 pm\, 15 per person
URL:https://hotelteatro.com/event/women-winemaker-wednesdays/2025-10-29/
LOCATION:Hotel Teatro\, 1100 14th St\, Denver\, CO 80202\, USA\, Denver\, CO\, 80202\, United States
ATTACH;FMTTYPE=image/webp:https://hotelteatro.com/storage/2025/10/Red-Wine-and-Striking-Shadows.webp
END:VEVENT
BEGIN:VEVENT
DTSTART;VALUE=DATE:20251025
DTEND;VALUE=DATE:20251026
DTSTAMP:20260422T011440
CREATED:20251017T122514Z
LAST-MODIFIED:20251201T212506Z
UID:10000009-1761350400-1761436799@hotelteatro.com
SUMMARY:LIVE MUSIC FRIDAYS
DESCRIPTION:Free Live Music brought to you by various artists in The Nickel.
URL:https://hotelteatro.com/event/live-music-fridays/2025-10-25/
LOCATION:Hotel Teatro\, 1100 14th St\, Denver\, CO 80202\, USA\, Denver\, CO\, 80202\, United States
ATTACH;FMTTYPE=image/webp:https://hotelteatro.com/storage/2025/10/istockphoto-1319479588-612x612-1.webp
END:VEVENT
BEGIN:VEVENT
DTSTART;TZID=UTC:20251022T173000
DTEND;TZID=UTC:20251022T183000
DTSTAMP:20260422T011440
CREATED:20251017T123135Z
LAST-MODIFIED:20251201T212405Z
UID:10000385-1761154200-1761157800@hotelteatro.com
SUMMARY:WOMEN WINEMAKER WEDNESDAYS
DESCRIPTION:Join us in The Study for Women Winemaker Wednesdays\, a monthly gathering celebrating the artistry and expertise of female winemakers. Held on the second Wednesday of each month from 5:30–6:30 p.m.\, this intimate tasting experience invites guests to explore exceptional wines while hearing the stories behind the bottle. \n\n\nEnjoy a curated wine tasting\, engaging wine education\, and a selection of small charcuterie bites. Whether you’re a seasoned wine lover or just beginning your journey\, this event offers the perfect setting to sip\, savor\, and learn in great company. \n\n\nReserve your spot and raise a glass to women in wine! \n\nFrom 5:30 pm – 6:30 pm\, 15 per person
URL:https://hotelteatro.com/event/women-winemaker-wednesdays/2025-10-22/
LOCATION:Hotel Teatro\, 1100 14th St\, Denver\, CO 80202\, USA\, Denver\, CO\, 80202\, United States
ATTACH;FMTTYPE=image/webp:https://hotelteatro.com/storage/2025/10/Red-Wine-and-Striking-Shadows.webp
END:VEVENT
BEGIN:VEVENT
DTSTART;VALUE=DATE:20251018
DTEND;VALUE=DATE:20251019
DTSTAMP:20260422T011440
CREATED:20251017T122514Z
LAST-MODIFIED:20251201T212506Z
UID:10000008-1760745600-1760831999@hotelteatro.com
SUMMARY:LIVE MUSIC FRIDAYS
DESCRIPTION:Free Live Music brought to you by various artists in The Nickel.
URL:https://hotelteatro.com/event/live-music-fridays/2025-10-18/
LOCATION:Hotel Teatro\, 1100 14th St\, Denver\, CO 80202\, USA\, Denver\, CO\, 80202\, United States
ATTACH;FMTTYPE=image/webp:https://hotelteatro.com/storage/2025/10/istockphoto-1319479588-612x612-1.webp
END:VEVENT
END:VCALENDAR